BEGIN:VCALENDAR
VERSION:2.0
PRODID:-//Hollyburn Cross Country Ski Club - ECPv6.15.20//NONSGML v1.0//EN
CALSCALE:GREGORIAN
METHOD:PUBLISH
X-ORIGINAL-URL:https://www.hollyburnxc.ca
X-WR-CALDESC:Events for Hollyburn Cross Country Ski Club
REFRESH-INTERVAL;VALUE=DURATION:PT1H
X-Robots-Tag:noindex
X-PUBLISHED-TTL:PT1H
BEGIN:VTIMEZONE
TZID:America/Vancouver
BEGIN:DAYLIGHT
TZOFFSETFROM:-0800
TZOFFSETTO:-0700
TZNAME:PDT
DTSTART:20180311T100000
END:DAYLIGHT
BEGIN:STANDARD
TZOFFSETFROM:-0700
TZOFFSETTO:-0800
TZNAME:PST
DTSTART:20181104T090000
END:STANDARD
BEGIN:DAYLIGHT
TZOFFSETFROM:-0800
TZOFFSETTO:-0700
TZNAME:PDT
DTSTART:20190310T100000
END:DAYLIGHT
BEGIN:STANDARD
TZOFFSETFROM:-0700
TZOFFSETTO:-0800
TZNAME:PST
DTSTART:20191103T090000
END:STANDARD
BEGIN:DAYLIGHT
TZOFFSETFROM:-0800
TZOFFSETTO:-0700
TZNAME:PDT
DTSTART:20200308T100000
END:DAYLIGHT
BEGIN:STANDARD
TZOFFSETFROM:-0700
TZOFFSETTO:-0800
TZNAME:PST
DTSTART:20201101T090000
END:STANDARD
END:VTIMEZONE
BEGIN:VEVENT
DTSTART;TZID=America/Vancouver:20191109T090000
DTEND;TZID=America/Vancouver:20191109T183000
DTSTAMP:20260424T092735
CREATED:20190913T012535Z
LAST-MODIFIED:20191020T184845Z
UID:10000795-1573290000-1573324200@www.hollyburnxc.ca
SUMMARY:CCC Level 1 Officials Course
DESCRIPTION:The Cross Country Canada Officials Level 1 Certification Course for cross country skiing provides an overview of what a cross country ski competition is all about. The focus is on the duties of minor officials for both “Olympic” style (interval start\, pursuit start\, mass start\, relays and sprints) and “Loppet” style (mass participation) competitions. This is the first step towards becoming a Nordic official. \nYou do not need to know how to ski and the club will pay the fees for this course for Hollyburn members if you agree to volunteer for at least one event during the upcoming season. Lunch will be provided.\n\nHere are the course details: \nPrerequisites \nAn interest in officiating. \nMinimum age of 16 years. \nCourse Schedule \nSaturday\, November 9\n9:00 a.m. – 6:30 p.m.\n(half hour break for lunch) \nThere will also be a small pre-seminar reading assignment and quiz\, to be done before the course starts. \nTo Bring \nA notepad and pen. If possible\, please bring a laptop or pad computer. \nCourse Conductor \nTBA \nCourse Location \nOffices of Thrive Health\n720 – 890 West Pender Street\nVancouver\, BC
URL:https://www.hollyburnxc.ca/event/ccc-level-1-officials-course-fall-2018-copy/
LOCATION:Thrive Health (Vancouver)\, 720 - 890 West Pender Street\, Vancouver\, BC\, V6C 1J9\, Canada
CATEGORIES:Calendar,Events,Officials,Volunteers
GEO:49.2848724;-123.1155453
X-APPLE-STRUCTURED-LOCATION;VALUE=URI;X-ADDRESS=Thrive Health (Vancouver) 720 - 890 West Pender Street Vancouver BC V6C 1J9 Canada;X-APPLE-RADIUS=500;X-TITLE=720 - 890 West Pender Street:geo:-123.1155453,49.2848724
END:VEVENT
END:VCALENDAR