BEGIN:VCALENDAR
VERSION:2.0
PRODID:-//Hollyburn Cross Country Ski Club - ECPv6.15.20//NONSGML v1.0//EN
CALSCALE:GREGORIAN
METHOD:PUBLISH
X-ORIGINAL-URL:https://www.hollyburnxc.ca
X-WR-CALDESC:Events for Hollyburn Cross Country Ski Club
REFRESH-INTERVAL;VALUE=DURATION:PT1H
X-Robots-Tag:noindex
X-PUBLISHED-TTL:PT1H
BEGIN:VTIMEZONE
TZID:America/Vancouver
BEGIN:DAYLIGHT
TZOFFSETFROM:-0800
TZOFFSETTO:-0700
TZNAME:PDT
DTSTART:20180311T100000
END:DAYLIGHT
BEGIN:STANDARD
TZOFFSETFROM:-0700
TZOFFSETTO:-0800
TZNAME:PST
DTSTART:20181104T090000
END:STANDARD
BEGIN:DAYLIGHT
TZOFFSETFROM:-0800
TZOFFSETTO:-0700
TZNAME:PDT
DTSTART:20190310T100000
END:DAYLIGHT
BEGIN:STANDARD
TZOFFSETFROM:-0700
TZOFFSETTO:-0800
TZNAME:PST
DTSTART:20191103T090000
END:STANDARD
BEGIN:DAYLIGHT
TZOFFSETFROM:-0800
TZOFFSETTO:-0700
TZNAME:PDT
DTSTART:20200308T100000
END:DAYLIGHT
BEGIN:STANDARD
TZOFFSETFROM:-0700
TZOFFSETTO:-0800
TZNAME:PST
DTSTART:20201101T090000
END:STANDARD
END:VTIMEZONE
BEGIN:VEVENT
DTSTART;TZID=America/Vancouver:20191109T090000
DTEND;TZID=America/Vancouver:20191109T183000
DTSTAMP:20260421T174748
CREATED:20190913T012535Z
LAST-MODIFIED:20191020T184845Z
UID:10000795-1573290000-1573324200@www.hollyburnxc.ca
SUMMARY:CCC Level 1 Officials Course
DESCRIPTION:The Cross Country Canada Officials Level 1 Certification Course for cross country skiing provides an overview of what a cross country ski competition is all about. The focus is on the duties of minor officials for both “Olympic” style (interval start\, pursuit start\, mass start\, relays and sprints) and “Loppet” style (mass participation) competitions. This is the first step towards becoming a Nordic official. \nYou do not need to know how to ski and the club will pay the fees for this course for Hollyburn members if you agree to volunteer for at least one event during the upcoming season. Lunch will be provided.\n\nHere are the course details: \nPrerequisites \nAn interest in officiating. \nMinimum age of 16 years. \nCourse Schedule \nSaturday\, November 9\n9:00 a.m. – 6:30 p.m.\n(half hour break for lunch) \nThere will also be a small pre-seminar reading assignment and quiz\, to be done before the course starts. \nTo Bring \nA notepad and pen. If possible\, please bring a laptop or pad computer. \nCourse Conductor \nTBA \nCourse Location \nOffices of Thrive Health\n720 – 890 West Pender Street\nVancouver\, BC
URL:https://www.hollyburnxc.ca/event/ccc-level-1-officials-course-fall-2018-copy/
LOCATION:Thrive Health (Vancouver)\, 720 - 890 West Pender Street\, Vancouver\, BC\, V6C 1J9\, Canada
CATEGORIES:Calendar,Events,Officials,Volunteers
GEO:49.2848724;-123.1155453
X-APPLE-STRUCTURED-LOCATION;VALUE=URI;X-ADDRESS=Thrive Health (Vancouver) 720 - 890 West Pender Street Vancouver BC V6C 1J9 Canada;X-APPLE-RADIUS=500;X-TITLE=720 - 890 West Pender Street:geo:-123.1155453,49.2848724
END:VEVENT
BEGIN:VEVENT
DTSTART;TZID=America/Vancouver:20191118T190000
DTEND;TZID=America/Vancouver:20191118T210000
DTSTAMP:20260421T174748
CREATED:20191009T221331Z
LAST-MODIFIED:20191009T222049Z
UID:10000797-1574103600-1574110800@www.hollyburnxc.ca
SUMMARY:Jackrabbit Coaches Meeting
DESCRIPTION:Annual Jackrabbits meeting for all Jackrabbits (new and returning) Coaches for the upcoming season.   Agenda will include include: overview of the season schedule\, safety presentation\,  and you will receive your coaching assignment/group lists for the upcoming season.   All coaches are required to attend and this is also a great opportunity to meet your fellow coaches.
URL:https://www.hollyburnxc.ca/event/jackrabbit-coaches-meeting-2/
LOCATION:Hastings Community Center\, 3096 E Hastings St\, Vancouver\, British Columbia\, V5K 2A3\, Canada
CATEGORIES:Calendar,Coaches-General,Events,General,Jackrabbit/Bunny
GEO:49.280658;-123.0394186
X-APPLE-STRUCTURED-LOCATION;VALUE=URI;X-ADDRESS=Hastings Community Center 3096 E Hastings St Vancouver British Columbia V5K 2A3 Canada;X-APPLE-RADIUS=500;X-TITLE=3096 E Hastings St:geo:-123.0394186,49.280658
END:VEVENT
BEGIN:VEVENT
DTSTART;VALUE=DATE:20191123
DTEND;VALUE=DATE:20191125
DTSTAMP:20260421T174748
CREATED:20190607T232054Z
LAST-MODIFIED:20190607T232054Z
UID:10000188-1574467200-1574639999@www.hollyburnxc.ca
SUMMARY:Hollyburn Club Camp
DESCRIPTION:Hollyburn Club Camp – includes coach refresher \nMore details to follow.
URL:https://www.hollyburnxc.ca/event/hollyburn-club-camp/
LOCATION:Whistler Olympic Park (Callaghan Valley)\, Whistler Olympic Park\, 5 Callaghan Valley Road\, Whistler\, British Columbia\, V0N 1B8\, Canada
CATEGORIES:Adventurers,Calendar,Coaches-General,General,Jackrabbit/Bunny,Track Attack
GEO:50.139477;-123.113651
X-APPLE-STRUCTURED-LOCATION;VALUE=URI;X-ADDRESS=Whistler Olympic Park (Callaghan Valley) Whistler Olympic Park 5 Callaghan Valley Road Whistler British Columbia V0N 1B8 Canada;X-APPLE-RADIUS=500;X-TITLE=Whistler Olympic Park\, 5 Callaghan Valley Road:geo:-123.113651,50.139477
END:VEVENT
BEGIN:VEVENT
DTSTART;TZID=America/Vancouver:20191129T180000
DTEND;TZID=America/Vancouver:20191201T130000
DTSTAMP:20260421T174748
CREATED:20190607T231421Z
LAST-MODIFIED:20190607T231551Z
UID:10000187-1575050400-1575205200@www.hollyburnxc.ca
SUMMARY:Teck Regional On-Snow Camp
DESCRIPTION:Teck Regional On-Snow Camp \nRegistration details and notice to be updated when it is available.
URL:https://www.hollyburnxc.ca/event/teck-regional-on-snow-camp/
LOCATION:Whistler Olympic Park (Callaghan Valley)\, Whistler Olympic Park\, 5 Callaghan Valley Road\, Whistler\, British Columbia\, V0N 1B8\, Canada
GEO:50.139477;-123.113651
X-APPLE-STRUCTURED-LOCATION;VALUE=URI;X-ADDRESS=Whistler Olympic Park (Callaghan Valley) Whistler Olympic Park 5 Callaghan Valley Road Whistler British Columbia V0N 1B8 Canada;X-APPLE-RADIUS=500;X-TITLE=Whistler Olympic Park\, 5 Callaghan Valley Road:geo:-123.113651,50.139477
END:VEVENT
END:VCALENDAR