BEGIN:VCALENDAR
VERSION:2.0
PRODID:-//Hollyburn Cross Country Ski Club - ECPv6.15.20//NONSGML v1.0//EN
CALSCALE:GREGORIAN
METHOD:PUBLISH
X-ORIGINAL-URL:https://www.hollyburnxc.ca
X-WR-CALDESC:Events for Hollyburn Cross Country Ski Club
REFRESH-INTERVAL;VALUE=DURATION:PT1H
X-Robots-Tag:noindex
X-PUBLISHED-TTL:PT1H
BEGIN:VTIMEZONE
TZID:America/Vancouver
BEGIN:DAYLIGHT
TZOFFSETFROM:-0800
TZOFFSETTO:-0700
TZNAME:PDT
DTSTART:20160313T100000
END:DAYLIGHT
BEGIN:STANDARD
TZOFFSETFROM:-0700
TZOFFSETTO:-0800
TZNAME:PST
DTSTART:20161106T090000
END:STANDARD
BEGIN:DAYLIGHT
TZOFFSETFROM:-0800
TZOFFSETTO:-0700
TZNAME:PDT
DTSTART:20170312T100000
END:DAYLIGHT
BEGIN:STANDARD
TZOFFSETFROM:-0700
TZOFFSETTO:-0800
TZNAME:PST
DTSTART:20171105T090000
END:STANDARD
BEGIN:DAYLIGHT
TZOFFSETFROM:-0800
TZOFFSETTO:-0700
TZNAME:PDT
DTSTART:20180311T100000
END:DAYLIGHT
BEGIN:STANDARD
TZOFFSETFROM:-0700
TZOFFSETTO:-0800
TZNAME:PST
DTSTART:20181104T090000
END:STANDARD
END:VTIMEZONE
BEGIN:VEVENT
DTSTART;TZID=America/Vancouver:20171022T163000
DTEND;TZID=America/Vancouver:20171022T210000
DTSTAMP:20260424T054535
CREATED:20170902T215848Z
LAST-MODIFIED:20170902T220415Z
UID:10000061-1508689800-1508706000@www.hollyburnxc.ca
SUMMARY:TA Pizza Potluck Social and Coaches Meeting
DESCRIPTION:Coaches meeting 4:30 to 5:30; social 6 to 9pm
URL:https://www.hollyburnxc.ca/event/ta-pizza-potluck-social-and-coaches-meeting/
LOCATION:Mollie Nye House\, 940 Lynn Valley Road\, North Vancouver\, BC\, Canada
CATEGORIES:Calendar,Track Attack
GEO:49.3320101;-123.0482366
X-APPLE-STRUCTURED-LOCATION;VALUE=URI;X-ADDRESS=Mollie Nye House 940 Lynn Valley Road North Vancouver BC Canada;X-APPLE-RADIUS=500;X-TITLE=940 Lynn Valley Road:geo:-123.0482366,49.3320101
END:VEVENT
END:VCALENDAR